BEGIN:VCALENDAR
VERSION:2.0
PRODID:-//SemiWiki - ECPv6.15.18//NONSGML v1.0//EN
CALSCALE:GREGORIAN
METHOD:PUBLISH
X-WR-CALNAME:SemiWiki
X-ORIGINAL-URL:https://semiwiki.com
X-WR-CALDESC:Events for SemiWiki
REFRESH-INTERVAL;VALUE=DURATION:PT1H
X-Robots-Tag:noindex
X-PUBLISHED-TTL:PT1H
BEGIN:VTIMEZONE
TZID:America/Los_Angeles
BEGIN:DAYLIGHT
TZOFFSETFROM:-0800
TZOFFSETTO:-0700
TZNAME:PDT
DTSTART:20250309T100000
END:DAYLIGHT
BEGIN:STANDARD
TZOFFSETFROM:-0700
TZOFFSETTO:-0800
TZNAME:PST
DTSTART:20251102T090000
END:STANDARD
BEGIN:DAYLIGHT
TZOFFSETFROM:-0800
TZOFFSETTO:-0700
TZNAME:PDT
DTSTART:20260308T100000
END:DAYLIGHT
BEGIN:STANDARD
TZOFFSETFROM:-0700
TZOFFSETTO:-0800
TZNAME:PST
DTSTART:20261101T090000
END:STANDARD
BEGIN:DAYLIGHT
TZOFFSETFROM:-0800
TZOFFSETTO:-0700
TZNAME:PDT
DTSTART:20270314T100000
END:DAYLIGHT
BEGIN:STANDARD
TZOFFSETFROM:-0700
TZOFFSETTO:-0800
TZNAME:PST
DTSTART:20271107T090000
END:STANDARD
END:VTIMEZONE
BEGIN:VEVENT
DTSTART;VALUE=DATE:20260607
DTEND;VALUE=DATE:20260613
DTSTAMP:20260420T033918
CREATED:20251211T213235Z
LAST-MODIFIED:20251211T213235Z
UID:364629-1780790400-1781308799@semiwiki.com
SUMMARY:IMS2026
DESCRIPTION:Welcome to IMS2026\n\n\n\n\n\n\n\n\n\n\n\n\n\nThe IEEE International MTT Symposia (IMS) (www.ims-ieee.org) is the world’s premier RF/microwave technical conference and industry exhibition. Attendees will appreciate that IMS2026 has been refreshed with the technical content reorganized\, and new branding\, new website\, and new mobile app launched. \nIMS2026 kicks off with the IEEE MTT-S RF Integrated Circuits (RFIC) Symposium\, then introduces two new symposia formed out of traditional IMS technical content\, the IEEE MTT-S RF Technology & Techniques (RFTT) Symposium and the IEEE MTT-S RF Systems & Applications (RFSA) Symposium\, before concluding the week with the ARFTG Microwave Measurement Conference. \n\n\n\n\n\n\n\nA Week of Opportunities\nIn historic Boston\, IMS2026 kicks off with the IEEE MTT-S RF Integrated Circuits (RFIC) Symposium\, then introduces two new symposia formed out of traditional IMS technical content\, the IEEE MTT-S RF Systems & Applications (RFSA) Symposium and IEEE MTT-S RF Technology & Techniques (RFTT) Symposium\, before concluding the week with the ARFTG Microwave Measurement Conference. \n\nIMS2026 isn’t just about innovation — it’s about connection. It’s the best place to network with peers\, learn from experts\, uncover new opportunities\, and tackle the challenges defining the future of our field. This is where the community comes together to learn about groundbreaking theories and practices\, and explore cutting-edge products and services. \nIMS by the Numbers \n\n8\,484 registered attendees representing 55 countries\n500+ exhibiting companies\, including 98 first timer exhibitors\n14 Start-Up Pavilion participants\n200+ education sessions\n\nREGISTER HERE
URL:https://semiwiki.com/event/ims2026/
LOCATION:Boston\, MA\, Boston\, MA\, United States
ATTACH;FMTTYPE=image/jpeg:https://semiwiki.com/wp-content/uploads/2025/12/header.jpg
END:VEVENT
END:VCALENDAR