BEGIN:VCALENDAR
VERSION:2.0
PRODID:-//SemiWiki - ECPv6.15.18//NONSGML v1.0//EN
CALSCALE:GREGORIAN
METHOD:PUBLISH
X-WR-CALNAME:SemiWiki
X-ORIGINAL-URL:https://semiwiki.com
X-WR-CALDESC:Events for SemiWiki
REFRESH-INTERVAL;VALUE=DURATION:PT1H
X-Robots-Tag:noindex
X-PUBLISHED-TTL:PT1H
BEGIN:VTIMEZONE
TZID:America/Los_Angeles
BEGIN:DAYLIGHT
TZOFFSETFROM:-0800
TZOFFSETTO:-0700
TZNAME:PDT
DTSTART:20250309T100000
END:DAYLIGHT
BEGIN:STANDARD
TZOFFSETFROM:-0700
TZOFFSETTO:-0800
TZNAME:PST
DTSTART:20251102T090000
END:STANDARD
BEGIN:DAYLIGHT
TZOFFSETFROM:-0800
TZOFFSETTO:-0700
TZNAME:PDT
DTSTART:20260308T100000
END:DAYLIGHT
BEGIN:STANDARD
TZOFFSETFROM:-0700
TZOFFSETTO:-0800
TZNAME:PST
DTSTART:20261101T090000
END:STANDARD
BEGIN:DAYLIGHT
TZOFFSETFROM:-0800
TZOFFSETTO:-0700
TZNAME:PDT
DTSTART:20270314T100000
END:DAYLIGHT
BEGIN:STANDARD
TZOFFSETFROM:-0700
TZOFFSETTO:-0800
TZNAME:PST
DTSTART:20271107T090000
END:STANDARD
END:VTIMEZONE
BEGIN:VEVENT
DTSTART;VALUE=DATE:20260120
DTEND;VALUE=DATE:20260123
DTSTAMP:20260421T093632
CREATED:20260113T042212Z
LAST-MODIFIED:20260113T042212Z
UID:365651-1768867200-1769126399@semiwiki.com
SUMMARY:POWERGEN 2026
DESCRIPTION:Unprecedented Demand. Unmatched Opportunity.\n\n\nA surge in data centers\, industrial expansion\, and electrification is reshaping power generation planning across North America. Utilities are under mounting pressure to maintain reliability and add new capacity. IPPs are accelerating project development to capture opportunity. EPCs and OEMs are finding innovative ways to build faster\, smarter\, and stronger amid supply chain and permitting headwinds. \nAt POWERGEN 2026\, we’re focusing on what it takes to deliver real megawatts and how collaboration across the generation ecosystem can meet the moment. \nWho should attend this event?\nThose involved in building\, operating and maintaining reliable megawatts during a period of rapid load growth including Utilities\, Grid & Energy Technology Providers / Solution Providers\, Independent Power Producers (IPPs) / Generators / Developers\, Original Equipment Manufacturers (OEMs). \n\nREGISTER HERE
URL:https://semiwiki.com/event/powergen-2026/
LOCATION:Henry B. González Convention Center\, 900 E Market St\, San Antonio\, TX\, 78205\, United States
ATTACH;FMTTYPE=image/png:https://semiwiki.com/wp-content/uploads/2026/01/Screenshot-2026-01-12-202137.png
END:VEVENT
END:VCALENDAR