BEGIN:VCALENDAR
VERSION:2.0
PRODID:-//SemiWiki - ECPv6.15.18//NONSGML v1.0//EN
CALSCALE:GREGORIAN
METHOD:PUBLISH
X-ORIGINAL-URL:https://semiwiki.com
X-WR-CALDESC:Events for SemiWiki
REFRESH-INTERVAL;VALUE=DURATION:PT1H
X-Robots-Tag:noindex
X-PUBLISHED-TTL:PT1H
BEGIN:VTIMEZONE
TZID:America/Los_Angeles
BEGIN:DAYLIGHT
TZOFFSETFROM:-0800
TZOFFSETTO:-0700
TZNAME:PDT
DTSTART:20250309T100000
END:DAYLIGHT
BEGIN:STANDARD
TZOFFSETFROM:-0700
TZOFFSETTO:-0800
TZNAME:PST
DTSTART:20251102T090000
END:STANDARD
BEGIN:DAYLIGHT
TZOFFSETFROM:-0800
TZOFFSETTO:-0700
TZNAME:PDT
DTSTART:20260308T100000
END:DAYLIGHT
BEGIN:STANDARD
TZOFFSETFROM:-0700
TZOFFSETTO:-0800
TZNAME:PST
DTSTART:20261101T090000
END:STANDARD
BEGIN:DAYLIGHT
TZOFFSETFROM:-0800
TZOFFSETTO:-0700
TZNAME:PDT
DTSTART:20270314T100000
END:DAYLIGHT
BEGIN:STANDARD
TZOFFSETFROM:-0700
TZOFFSETTO:-0800
TZNAME:PST
DTSTART:20271107T090000
END:STANDARD
END:VTIMEZONE
BEGIN:VEVENT
DTSTART;VALUE=DATE:20260614
DTEND;VALUE=DATE:20260619
DTSTAMP:20260420T225745
CREATED:20250828T061019Z
LAST-MODIFIED:20250828T061019Z
UID:361103-1781395200-1781827199@semiwiki.com
SUMMARY:2026 IEEE/JSAP Symposium on VLSI Technology and Circuits (VLSI Technology and Circuits)
DESCRIPTION:New concepts and breakthroughs in VLSI processes and devices including Memory\, Logic\, I/O\, and I/F (RF/Analog/MS\, Imager\, MEMS\, etc.) – Advanced gate stack and interconnect in VLSI processes and devices – Advanced lithography and fine patternig technologies for high density VLSI – New functional devices beyond CMOS with a path for VLSI implantation – Packing of VLSI devices including 3D – system integration – Processes and devices modeling of VLSI devices – Reliability related to the above devices. \nHonolulu\, Hawaii\, USA  |  Event Format : Hybrid (In-person and Virtual) \nREGISTER HERE
URL:https://semiwiki.com/event/2026-ieee-jsap-symposium-on-vlsi-technology-and-circuits-vlsi-technology-and-circuits/
LOCATION:Honolulu\, Hawaii\, Honolulu\, HI\, United States
ATTACH;FMTTYPE=image/png:https://semiwiki.com/wp-content/uploads/2025/08/Screenshot-2025-08-27-230953.png
END:VEVENT
END:VCALENDAR