BEGIN:VCALENDAR
VERSION:2.0
PRODID:-//SemiWiki - ECPv6.15.18//NONSGML v1.0//EN
CALSCALE:GREGORIAN
METHOD:PUBLISH
X-WR-CALNAME:SemiWiki
X-ORIGINAL-URL:https://semiwiki.com
X-WR-CALDESC:Events for SemiWiki
REFRESH-INTERVAL;VALUE=DURATION:PT1H
X-Robots-Tag:noindex
X-PUBLISHED-TTL:PT1H
BEGIN:VTIMEZONE
TZID:America/Los_Angeles
BEGIN:DAYLIGHT
TZOFFSETFROM:-0800
TZOFFSETTO:-0700
TZNAME:PDT
DTSTART:20250309T100000
END:DAYLIGHT
BEGIN:STANDARD
TZOFFSETFROM:-0700
TZOFFSETTO:-0800
TZNAME:PST
DTSTART:20251102T090000
END:STANDARD
BEGIN:DAYLIGHT
TZOFFSETFROM:-0800
TZOFFSETTO:-0700
TZNAME:PDT
DTSTART:20260308T100000
END:DAYLIGHT
BEGIN:STANDARD
TZOFFSETFROM:-0700
TZOFFSETTO:-0800
TZNAME:PST
DTSTART:20261101T090000
END:STANDARD
BEGIN:DAYLIGHT
TZOFFSETFROM:-0800
TZOFFSETTO:-0700
TZNAME:PDT
DTSTART:20270314T100000
END:DAYLIGHT
BEGIN:STANDARD
TZOFFSETFROM:-0700
TZOFFSETTO:-0800
TZNAME:PST
DTSTART:20271107T090000
END:STANDARD
END:VTIMEZONE
BEGIN:VEVENT
DTSTART;VALUE=DATE:20260610
DTEND;VALUE=DATE:20260612
DTSTAMP:20260423T165112
CREATED:20260326T224703Z
LAST-MODIFIED:20260326T224703Z
UID:367952-1781049600-1781222399@semiwiki.com
SUMMARY:2026 European Executive Forum
DESCRIPTION:June 10 8:00 AM – June 11 5:00 PM CEST\n2026 European Executive Forum\n\nMunich\, Germany\n\nREGISTER HERE
URL:https://semiwiki.com/event/2026-european-executive-forum/
LOCATION:Munich\, Germany
END:VEVENT
END:VCALENDAR