BEGIN:VCALENDAR
VERSION:2.0
PRODID:-//SemiWiki - ECPv6.15.18//NONSGML v1.0//EN
CALSCALE:GREGORIAN
METHOD:PUBLISH
X-WR-CALNAME:SemiWiki
X-ORIGINAL-URL:https://semiwiki.com
X-WR-CALDESC:Events for SemiWiki
REFRESH-INTERVAL;VALUE=DURATION:PT1H
X-Robots-Tag:noindex
X-PUBLISHED-TTL:PT1H
BEGIN:VTIMEZONE
TZID:America/Los_Angeles
BEGIN:DAYLIGHT
TZOFFSETFROM:-0800
TZOFFSETTO:-0700
TZNAME:PDT
DTSTART:20250309T100000
END:DAYLIGHT
BEGIN:STANDARD
TZOFFSETFROM:-0700
TZOFFSETTO:-0800
TZNAME:PST
DTSTART:20251102T090000
END:STANDARD
BEGIN:DAYLIGHT
TZOFFSETFROM:-0800
TZOFFSETTO:-0700
TZNAME:PDT
DTSTART:20260308T100000
END:DAYLIGHT
BEGIN:STANDARD
TZOFFSETFROM:-0700
TZOFFSETTO:-0800
TZNAME:PST
DTSTART:20261101T090000
END:STANDARD
BEGIN:DAYLIGHT
TZOFFSETFROM:-0800
TZOFFSETTO:-0700
TZNAME:PDT
DTSTART:20270314T100000
END:DAYLIGHT
BEGIN:STANDARD
TZOFFSETFROM:-0700
TZOFFSETTO:-0800
TZNAME:PST
DTSTART:20271107T090000
END:STANDARD
END:VTIMEZONE
BEGIN:VEVENT
DTSTART;TZID=America/Los_Angeles:20260506T080000
DTEND;TZID=America/Los_Angeles:20260506T090000
DTSTAMP:20260420T114401
CREATED:20260420T073725Z
LAST-MODIFIED:20260420T073725Z
UID:368582-1778054400-1778058000@semiwiki.com
SUMMARY:Webinar: All in One Bluetooth Audio: A Complete Solution on a TSMC 12nm Single Die
DESCRIPTION:Abstract\n\nDive into the future of Bluetooth audio with Ceva and Dolphin Semiconductor’s breakthrough 12nm Smart Edge AIoT SoC solution. \nThis webinar shows how advanced wireless connectivity\, integrated AI processing\, and premium audio technologies and power management come together to deliver superior performance\, lower power\, and faster time to market. \nLearn how a combined Ceva and Dolphin Semiconductor’s solution turnkey platform enables low power and high performance next generation features: Bluetooth High Data Throughput\, Channel Sounding\, spatial audio\, voice commands\, sensor fusion\, and more. \nIdeal for cutting edge earbuds\, headsets\, smartwatches\, and smart glasses. \nDon’t miss this opportunity to enhance your next audio product with industry leading innovation. \nWhat you will learn in this session:\n\nMap and understand audio peripheral product challenges\, particularly for TWS/OTC\nEvaluate the pros and cons of existing design level solutions\nCeva’s and Dolphin Semiconductor’s solution for overcoming TWS/OTC device challenges\n\n\nTarget Audience\nChip architects & SoC designers\, audio and DSP engineers\, embedded software engineers\, and product managers for hearables & wearables \n\nSpeakers\n\n\n\n\n\n\n\nFranz Dugand \nSr. Director\, Product Marketing\, Ceva \n\n\n\n\n\n\nEtienne Faucher \nProduct line Portfolio Manager – Audio\, Dolphin Semiconductor \n\n\n\n\nREGISTER HERE
URL:https://semiwiki.com/event/webinar-all-in-one-bluetooth-audio-a-complete-solution-on-a-tsmc-12nm-single-die/
LOCATION:Online
ATTACH;FMTTYPE=image/jpeg:https://semiwiki.com/wp-content/uploads/2026/04/CEVA-Dolphin-Weninar-SemiWiki_400x400-v2_260419.jpg
END:VEVENT
END:VCALENDAR