BEGIN:VCALENDAR
VERSION:2.0
PRODID:-//SemiWiki - ECPv6.15.18//NONSGML v1.0//EN
CALSCALE:GREGORIAN
METHOD:PUBLISH
X-ORIGINAL-URL:https://semiwiki.com
X-WR-CALDESC:Events for SemiWiki
REFRESH-INTERVAL;VALUE=DURATION:PT1H
X-Robots-Tag:noindex
X-PUBLISHED-TTL:PT1H
BEGIN:VTIMEZONE
TZID:America/Los_Angeles
BEGIN:DAYLIGHT
TZOFFSETFROM:-0800
TZOFFSETTO:-0700
TZNAME:PDT
DTSTART:20250309T100000
END:DAYLIGHT
BEGIN:STANDARD
TZOFFSETFROM:-0700
TZOFFSETTO:-0800
TZNAME:PST
DTSTART:20251102T090000
END:STANDARD
BEGIN:DAYLIGHT
TZOFFSETFROM:-0800
TZOFFSETTO:-0700
TZNAME:PDT
DTSTART:20260308T100000
END:DAYLIGHT
BEGIN:STANDARD
TZOFFSETFROM:-0700
TZOFFSETTO:-0800
TZNAME:PST
DTSTART:20261101T090000
END:STANDARD
BEGIN:DAYLIGHT
TZOFFSETFROM:-0800
TZOFFSETTO:-0700
TZNAME:PDT
DTSTART:20270314T100000
END:DAYLIGHT
BEGIN:STANDARD
TZOFFSETFROM:-0700
TZOFFSETTO:-0800
TZNAME:PST
DTSTART:20271107T090000
END:STANDARD
END:VTIMEZONE
BEGIN:VEVENT
DTSTART;VALUE=DATE:20260627
DTEND;VALUE=DATE:20260702
DTSTAMP:20260423T052631
CREATED:20260414T062249Z
LAST-MODIFIED:20260414T062249Z
UID:368397-1782518400-1782950399@semiwiki.com
SUMMARY:ISCA 2026
DESCRIPTION:The International Symposium on Computer Architecture (ISCA) is the premier forum for new ideas and experimental results in computer architecture. The conference specifically seeks particularly forward-looking and novel submissions. In 2026\, the 53rd edition of ISCA will be held in Raleigh at the Raleigh Convention Center from June 27 to July 1\, 2026. \nREGISTER HERE
URL:https://semiwiki.com/event/isca-2026/
LOCATION:Raleigh Convention Center\, Raleigh Convention Center\, 500 Fayetteville St\, Raleigh\, NC\, 27601\, United States
ATTACH;FMTTYPE=image/png:https://semiwiki.com/wp-content/uploads/2026/04/Screenshot-2026-04-13-232202.png
END:VEVENT
BEGIN:VEVENT
DTSTART;VALUE=DATE:20260628
DTEND;VALUE=DATE:20260702
DTSTAMP:20260423T052631
CREATED:20260107T110056Z
LAST-MODIFIED:20260107T110056Z
UID:365403-1782604800-1782950399@semiwiki.com
SUMMARY:ALD/ALE 2026
DESCRIPTION:Overview\n\n\n\n\nThe AVS 26th International Conference on Atomic Layer Deposition (ALD 2026) featuring the 13th International Atomic Layer Etching Workshop (ALE 2026) will be a three-day meeting dedicated to the science and technology of atomic layer controlled deposition of thin films and atomic layer etching.  Since 2001\, the ALD conference has been held alternately in the United States\, Europe and Asia\, allowing fruitful exchange of ideas\, know-how and practices between scientists. The conference will take place Sunday\, June 28-Wednesday\, July 1\, 2026\, at the JW Marriott Water Street\, Tampa\, Florida. \nAs in past conferences\, the meeting will be preceded (Sunday\, June 28) by one day of tutorials and perspectives and a welcome reception. Sessions will take place (Monday-Wednesday\, June 29-July 1) along with an industry tradeshow. All presentations will be audio-recorded and provided to attendees following the conference (posters will be included as PDFs). Anticipated attendance is 700+. View List of Invited Speakers \n\n\nREGISTER HERE
URL:https://semiwiki.com/event/ald-ale-2026/
LOCATION:JW Marriott Water Street\, JW Marriott Water Street\, 510 Water St\, Tampa\, FL\, 33602\, United States
ATTACH;FMTTYPE=image/png:https://semiwiki.com/wp-content/uploads/2026/01/Screenshot-2026-01-07-025943.png
END:VEVENT
END:VCALENDAR