BEGIN:VCALENDAR
VERSION:2.0
PRODID:-//SemiWiki - ECPv6.15.18//NONSGML v1.0//EN
CALSCALE:GREGORIAN
METHOD:PUBLISH
X-ORIGINAL-URL:https://semiwiki.com
X-WR-CALDESC:Events for SemiWiki
REFRESH-INTERVAL;VALUE=DURATION:PT1H
X-Robots-Tag:noindex
X-PUBLISHED-TTL:PT1H
BEGIN:VTIMEZONE
TZID:America/Los_Angeles
BEGIN:DAYLIGHT
TZOFFSETFROM:-0800
TZOFFSETTO:-0700
TZNAME:PDT
DTSTART:20250309T100000
END:DAYLIGHT
BEGIN:STANDARD
TZOFFSETFROM:-0700
TZOFFSETTO:-0800
TZNAME:PST
DTSTART:20251102T090000
END:STANDARD
BEGIN:DAYLIGHT
TZOFFSETFROM:-0800
TZOFFSETTO:-0700
TZNAME:PDT
DTSTART:20260308T100000
END:DAYLIGHT
BEGIN:STANDARD
TZOFFSETFROM:-0700
TZOFFSETTO:-0800
TZNAME:PST
DTSTART:20261101T090000
END:STANDARD
BEGIN:DAYLIGHT
TZOFFSETFROM:-0800
TZOFFSETTO:-0700
TZNAME:PDT
DTSTART:20270314T100000
END:DAYLIGHT
BEGIN:STANDARD
TZOFFSETFROM:-0700
TZOFFSETTO:-0800
TZNAME:PST
DTSTART:20271107T090000
END:STANDARD
END:VTIMEZONE
BEGIN:VEVENT
DTSTART;VALUE=DATE:20260503
DTEND;VALUE=DATE:20260509
DTSTAMP:20260419T064004
CREATED:20260107T102219Z
LAST-MODIFIED:20260107T102219Z
UID:365376-1777766400-1778284799@semiwiki.com
SUMMARY:Display Week 2026
DESCRIPTION:Where Innovation Meets Display.\nGain insights directly from the experts shaping the future of display technology. Explore next-generation innovations from over 200 leading manufacturers and emerging players. Engage with global engineers\, developers\, and decision-makers in discussions that are driving technical advancement and commercial impact. \nGain fresh perspectives\, ingenious strategies\, and the motivation to advance your work. The Display Week 2026 keynote lineup features forward-thinkers from top companies and major research institutes. Don’t miss the unique opportunity to hear about the future of display technology from the leaders who are shaping it. \nREGISTER HERE
URL:https://semiwiki.com/event/display-week-2026/
LOCATION:Los Angeles Convention Center\, 1201 S Figueroa St\, Los Angeles\, 90015
ATTACH;FMTTYPE=image/png:https://semiwiki.com/wp-content/uploads/2026/01/Screenshot-2026-01-07-022000.png
END:VEVENT
BEGIN:VEVENT
DTSTART;VALUE=DATE:20260504
DTEND;VALUE=DATE:20260508
DTSTAMP:20260419T064004
CREATED:20260107T102505Z
LAST-MODIFIED:20260107T102505Z
UID:365379-1777852800-1778198399@semiwiki.com
SUMMARY:IEEE International Symposium on Hardware Oriented Security and Trust (HOST)
DESCRIPTION:The premier symposium that facilitates the rapid growth of hardware-based security research and development. Since 2008\, HOST has served as the globally recognized event for researchers and practitioners to advance knowledge and technologies related to hardware security and assurance. \nMay 4 – 7 2026 \nWashington DC\, USA \n\n\n\n\n\n\n\n\n\nAbout the Conference\n\n\n\n\n\n\n\n\n\n\n\n\nRapid proliferation of computing and communication systems with increasing computational power and connectivity into every sphere of modern life has brought security to the forefront of system design\, test\, and validation processes. The emergence of new application spaces for these systems in the internet-of-things (IoT) regime is creating new attack surfaces as well as new requirements for secure and trusted system operation. Additionally\, the design\, manufacturing and the distribution of microchip\, PCB\, as well as other electronic components are becoming more sophisticated and globally distributed with a number of potential security vulnerabilities. Therefore\, hardware plays an increasingly important and integral role in system security with many emerging system and application vulnerabilities and defense mechanisms relating to hardware. IEEE International Symposium on Hardware Oriented Security and Trust (HOST) aims to facilitate the rapid growth of hardware-based security research and development. HOST highlights new results in the area of hardware and system security. Relevant research topics include techniques\, tools\, design/test methods\, architectures\, circuits\, and applications of secure hardware. \nAdditional guidance for HOST reviewers on preprint\, double-blind\, multiple-submissions\, and related IEEE policy can be found on the HOST Publication Policies page. \nContact Information\nGeneral Chairs\nSaverio Fazzari\, Email: Saverio.Fazzari.ctr@darpa.mil\nSandip Ray\, Email: sandip@ece.ufl.edu \nIEEE Open Conference Statement\nExpanding participation in computing is central to the goals of the IEEE Computer Society and all of its conferences. The IEEE Computer Society is firmly committed to broad participation in all sponsored activities\, including but not limited to\, technical communities\, steering committees\, conference organizations\, standards committees\, and ad hoc committees that welcome the entire global community. \nIEEE’s mission to foster technological innovation and excellence to benefit humanity requires the talents and perspectives of people with many disciplinary backgrounds. \nAll individuals are entitled to participate in any IEEE Computer Society activity free of discrimination and harassment. \n\n\n\nREGISTER HERE
URL:https://semiwiki.com/event/ieee-international-symposium-on-hardware-oriented-security-and-trust-host/
LOCATION:Washington DC\, USA\, Washington DC\, DC\, United States
ATTACH;FMTTYPE=image/png:https://semiwiki.com/wp-content/uploads/2026/01/Screenshot-2026-01-07-022335.png
END:VEVENT
BEGIN:VEVENT
DTSTART;VALUE=DATE:20260505
DTEND;VALUE=DATE:20260508
DTSTAMP:20260419T064004
CREATED:20260107T103329Z
LAST-MODIFIED:20260107T103329Z
UID:365382-1777939200-1778198399@semiwiki.com
SUMMARY:SEMICON Southeast Asia 2026
DESCRIPTION:Expanding The Coverage of the Electronics Manufacturing Supply Chain!\nSEMI Southeast Asia\nSEMI Southeast Asia was established in 1993\, the same year the SEMICON Singapore exhibition was established. The aim of the SEMI Southeast Asia office is to provide all of the SEMI International Services to the region in a timely manner. If you happen to be visiting or plan to set up operations in Southeast Asia\, please contact us at the SEMI Southeast Asia office. \nAbout SEMICON Southeast Asia\nExpanding the Coverage of the Global Electronics Manufacturing Supply Chain! \nWhile Southeast Asia is rising up fast as a world-class electronics manufacturing hub with end-to-end R&D capabilities – SEMICON Southeast Asia has become an important exposition for the electronics industry in Southeast Asia. The show connects the decision makers from the industry\, demonstrates the most advanced products and brings in the most up-to-date market and technology trends. Bringing solutions to industry challenges that can best be addressed at the event! \nREGISTER HERE \n\n\nAbout SEMI\n\n\nSEMI is the global industry association serving the manufacturing supply chains for the microelectronic\, display and photovoltaic industries. SEMI members are responsible for the innovations in materials\, design\, equipment\, software\, devices\, and services that enable smarter\, faster\, more powerful\, and more affordable electronic products. Electronic System Design Alliance (ESD Alliance)\, FlexTech\, the Fab Owners Alliance (FOA) and the MEMS & Sensors Industry Group (MSIG) are SEMI Strategic Association Partners\, defined communities within SEMI focused on specific technologies. SEMI maintains offices in Beijing\, Bengaluru\, Berlin\, Brussels\, Grenoble\, Hsinchu\, Moscow\, San Jose\, Seoul\, Shanghai\, Singapore\, Tokyo\, and Washington\, D.C. For more information\, visit www.semi.org. \nSEMI Tradeshows Worldwide\nDid you know that SEMI produces tradeshows in virtually every international semiconductor market? You can participate in China\, Europe\, Korea\, Japan\, Singapore\, and Taiwan. See the SEMI Tradeshows Calendar. \n\n\n\n\nContact\n\n\n152 Beach Road\, #09-03/04\nGateway East\nSingapore 189721\nTel: 65.6339.6361\nFax: 65.6339.6637\nEmail: semiconsea@semi.org \n\n\nREGISTER HERE
URL:https://semiwiki.com/event/semicon-southeast-asia-2026/
LOCATION:MITEC (Malaysia International Trade and Exhibition Centre)\, Kompleks MITEC\, 8\, Jalan Dutamas 2\, Kompleks Kerajaan\, Kuala Lumpur\, Wilayah Persekutuan\, 50480\, Malaysia
ATTACH;FMTTYPE=image/png:https://semiwiki.com/wp-content/uploads/2026/01/Screenshot-2026-01-07-023109.png
END:VEVENT
END:VCALENDAR